BEGIN:VCALENDAR
VERSION:2.0
PRODID:-//Nicoletta Musso e Davide Oreglia - ECPv6.6.2//NONSGML v1.0//EN
CALSCALE:GREGORIAN
METHOD:PUBLISH
X-ORIGINAL-URL:https://www.mussoreglia.it
X-WR-CALDESC:Eventi per Nicoletta Musso e Davide Oreglia
REFRESH-INTERVAL;VALUE=DURATION:PT1H
X-Robots-Tag:noindex
X-PUBLISHED-TTL:PT1H
BEGIN:VTIMEZONE
TZID:Europe/Rome
BEGIN:DAYLIGHT
TZOFFSETFROM:+0100
TZOFFSETTO:+0200
TZNAME:CEST
DTSTART:20250330T010000
END:DAYLIGHT
BEGIN:STANDARD
TZOFFSETFROM:+0200
TZOFFSETTO:+0100
TZNAME:CET
DTSTART:20251026T010000
END:STANDARD
BEGIN:DAYLIGHT
TZOFFSETFROM:+0100
TZOFFSETTO:+0200
TZNAME:CEST
DTSTART:20260329T010000
END:DAYLIGHT
BEGIN:STANDARD
TZOFFSETFROM:+0200
TZOFFSETTO:+0100
TZNAME:CET
DTSTART:20261025T010000
END:STANDARD
END:VTIMEZONE
BEGIN:VEVENT
DTSTART;TZID=Europe/Rome:20251017T080000
DTEND;TZID=Europe/Rome:20251017T203000
DTSTAMP:20260421T215407
CREATED:20251015T161428Z
LAST-MODIFIED:20251015T161428Z
UID:883-1760688000-1760733000@www.mussoreglia.it
SUMMARY:Per crescere un bambino ci vuole un villaggio
DESCRIPTION:Incontro per genitori a Benevagienna\, per crescere come genitori e aiutare a crescere i nostri figli\,
URL:https://www.mussoreglia.it/evento/per-crescere-un-bambino-ci-vuole-un-villaggio/
ATTACH;FMTTYPE=image/jpeg:https://www.mussoreglia.it/wp-content/uploads/2025/10/WhatsApp-Image-2025-10-15-at-18.08.07.jpeg
END:VEVENT
BEGIN:VEVENT
DTSTART;TZID=Europe/Rome:20251019T093000
DTEND;TZID=Europe/Rome:20251019T160000
DTSTAMP:20260421T215407
CREATED:20251015T162157Z
LAST-MODIFIED:20251015T162157Z
UID:889-1760866200-1760889600@www.mussoreglia.it
SUMMARY:Alimentare la speranza nella vita di coppia
DESCRIPTION:La speranza è una relazione buona con il presente e con il futuro che si impara a costruire insieme. Proveremo a fare un po’ di allenamento su questa indispensabile virtù.
URL:https://www.mussoreglia.it/evento/alimentare-la-speranza-nella-vita-di-coppia/
ATTACH;FMTTYPE=image/jpeg:https://www.mussoreglia.it/wp-content/uploads/2025/10/WhatsApp-Image-2025-10-03-at-15.40.23.jpeg
END:VEVENT
BEGIN:VEVENT
DTSTART;TZID=Europe/Rome:20251109T090000
DTEND;TZID=Europe/Rome:20251109T163000
DTSTAMP:20260421T215407
CREATED:20251015T161644Z
LAST-MODIFIED:20251015T161644Z
UID:885-1762678800-1762705800@www.mussoreglia.it
SUMMARY:Due bagagli in un armadio
DESCRIPTION:Coppia e la relazione con le famiglie di origine. Imparare a conoscere le proprie radici per saper crescere e generare una nuova famiglia. A Nave di Brescia
URL:https://www.mussoreglia.it/evento/due-bagagli-in-un-armadio/
ATTACH;FMTTYPE=image/jpeg:https://www.mussoreglia.it/wp-content/uploads/2025/10/WhatsApp-Image-2025-10-08-at-13.55.29.jpeg
END:VEVENT
BEGIN:VEVENT
DTSTART;TZID=Europe/Rome:20260124T173000
DTEND;TZID=Europe/Rome:20260124T203000
DTSTAMP:20260421T215407
CREATED:20260226T161417Z
LAST-MODIFIED:20260226T161417Z
UID:906-1769275800-1769286600@www.mussoreglia.it
SUMMARY:Tutto sull'intimità di coppia
DESCRIPTION:Il 24 gennaio per la Pastorale Familiare della Diocesi di Oria\, formazione per coppie.
URL:https://www.mussoreglia.it/evento/tutto-sullintimita-di-coppia/
ATTACH;FMTTYPE=image/jpeg:https://www.mussoreglia.it/wp-content/uploads/2026/02/WhatsApp-Image-2026-01-16-at-20.44.14.jpeg
END:VEVENT
BEGIN:VEVENT
DTSTART;TZID=Europe/Rome:20260213T080000
DTEND;TZID=Europe/Rome:20260214T170000
DTSTAMP:20260421T215407
CREATED:20260226T160601Z
LAST-MODIFIED:20260226T160601Z
UID:897-1770969600-1771088400@www.mussoreglia.it
SUMMARY:Formazione per direttrici ed ispettrici delle suore Salesiane
DESCRIPTION:Camminare con vocazioni complementari ci dice la ricchezza del vivere e la bellezza della varietà dei talenti! On le superiori e le ispettrici e le juniores della provincia dell’Italia del nord a Nave di Brescia
URL:https://www.mussoreglia.it/evento/formazione-per-direttrici-ed-ispettrici-delle-suore-salesiane/
ATTACH;FMTTYPE=image/jpeg:https://www.mussoreglia.it/wp-content/uploads/2026/02/WhatsApp-Image-2026-02-14-at-11.10.11.jpeg
END:VEVENT
BEGIN:VEVENT
DTSTART;TZID=Europe/Rome:20260214T170000
DTEND;TZID=Europe/Rome:20260215T170000
DTSTAMP:20260421T215407
CREATED:20260226T160854Z
LAST-MODIFIED:20260226T160854Z
UID:900-1771088400-1771174800@www.mussoreglia.it
SUMMARY:Amarsi anima e corpo Esercizi spirituali END zona Lecco
DESCRIPTION:A Ballabio esercizi epr coppie dell’Equipe Notre Dame della zona di Lecco. In un luogo incantevole una esperienza di crescita insieme nel corpo e nell’anima!
URL:https://www.mussoreglia.it/evento/amarsi-anima-e-corpo-esercizi-spirituali-end-zona-lecco/
ATTACH;FMTTYPE=image/jpeg:https://www.mussoreglia.it/wp-content/uploads/2026/02/WhatsApp-Image-2026-02-10-at-16.41.19.jpeg
END:VEVENT
BEGIN:VEVENT
DTSTART;TZID=Europe/Rome:20260221T173000
DTEND;TZID=Europe/Rome:20260221T200000
DTSTAMP:20260421T215407
CREATED:20260226T162337Z
LAST-MODIFIED:20260226T162337Z
UID:912-1771695000-1771704000@www.mussoreglia.it
SUMMARY:Partiamo da noi
DESCRIPTION:Percorso per coppie della diocesi di Assisi\, in tre appuntamenti\, il primo con Davide e Nicoletta Oreglia
URL:https://www.mussoreglia.it/evento/partiamo-da-noi/
ATTACH;FMTTYPE=image/jpeg:https://www.mussoreglia.it/wp-content/uploads/2026/02/WhatsApp-Image-2026-01-14-at-09.30.05-1.jpeg
END:VEVENT
BEGIN:VEVENT
DTSTART;TZID=Europe/Rome:20260226T080000
DTEND;TZID=Europe/Rome:20260226T170000
DTSTAMP:20260421T215407
CREATED:20260226T161646Z
LAST-MODIFIED:20260226T161646Z
UID:909-1772092800-1772125200@www.mussoreglia.it
SUMMARY:C'è un tempo per ogni cosa
DESCRIPTION:Con l’Equipe Notre Dame della zona di Genova una domenica di crescita e formazione insieme\, nel Seminario di Genova.
URL:https://www.mussoreglia.it/evento/ce-un-tempo-per-ogni-cosa/
ATTACH;FMTTYPE=image/jpeg:https://www.mussoreglia.it/wp-content/uploads/2026/02/WhatsApp-Image-2026-01-16-at-20.42.47.jpeg
END:VEVENT
BEGIN:VEVENT
DTSTART;TZID=Europe/Rome:20260308T093000
DTEND;TZID=Europe/Rome:20260308T123000
DTSTAMP:20260421T215407
CREATED:20260226T161137Z
LAST-MODIFIED:20260226T161137Z
UID:903-1772962200-1772973000@www.mussoreglia.it
SUMMARY:La fertilità che non ti aspetti
DESCRIPTION:A Colle don Bosco per scoprire i frutti che stiamo portando come coppia e quelli che stanno maturando insieme. \nOrganizzato da Associazione Piemontese Metodo Billings
URL:https://www.mussoreglia.it/evento/la-fertilita-che-non-ti-aspetti-2/
ATTACH;FMTTYPE=image/jpeg:https://www.mussoreglia.it/wp-content/uploads/2026/02/WhatsApp-Image-2026-02-09-at-09.48.09.jpeg
END:VEVENT
BEGIN:VEVENT
DTSTART;TZID=Europe/Rome:20260313T180000
DTEND;TZID=Europe/Rome:20260315T130000
DTSTAMP:20260421T215407
CREATED:20260226T160216Z
LAST-MODIFIED:20260226T160216Z
UID:894-1773424800-1773579600@www.mussoreglia.it
SUMMARY:Vivere la danza dell'amore Week-end per coppie
DESCRIPTION:Per la crescita della nostra coppia un po’ di tempo da dedicarsi nella pace di un luogo molto bello\, Sestri Levante\, per custodire il nostro amore e farlo crescere.
URL:https://www.mussoreglia.it/evento/vivere-la-danza-dellamore-week-end-per-coppie/
ATTACH;FMTTYPE=image/jpeg:https://www.mussoreglia.it/wp-content/uploads/2026/02/WhatsApp-Image-2026-02-14-at-19.24.53.jpeg
END:VEVENT
END:VCALENDAR