BEGIN:VCALENDAR
VERSION:2.0
PRODID:-//Nicoletta Musso e Davide Oreglia - ECPv6.6.2//NONSGML v1.0//EN
CALSCALE:GREGORIAN
METHOD:PUBLISH
X-WR-CALNAME:Nicoletta Musso e Davide Oreglia
X-ORIGINAL-URL:https://www.mussoreglia.it
X-WR-CALDESC:Eventi per Nicoletta Musso e Davide Oreglia
REFRESH-INTERVAL;VALUE=DURATION:PT1H
X-Robots-Tag:noindex
X-PUBLISHED-TTL:PT1H
BEGIN:VTIMEZONE
TZID:Europe/Rome
BEGIN:DAYLIGHT
TZOFFSETFROM:+0100
TZOFFSETTO:+0200
TZNAME:CEST
DTSTART:20220327T010000
END:DAYLIGHT
BEGIN:STANDARD
TZOFFSETFROM:+0200
TZOFFSETTO:+0100
TZNAME:CET
DTSTART:20221030T010000
END:STANDARD
BEGIN:DAYLIGHT
TZOFFSETFROM:+0100
TZOFFSETTO:+0200
TZNAME:CEST
DTSTART:20230326T010000
END:DAYLIGHT
BEGIN:STANDARD
TZOFFSETFROM:+0200
TZOFFSETTO:+0100
TZNAME:CET
DTSTART:20231029T010000
END:STANDARD
BEGIN:DAYLIGHT
TZOFFSETFROM:+0100
TZOFFSETTO:+0200
TZNAME:CEST
DTSTART:20240331T010000
END:DAYLIGHT
BEGIN:STANDARD
TZOFFSETFROM:+0200
TZOFFSETTO:+0100
TZNAME:CET
DTSTART:20241027T010000
END:STANDARD
END:VTIMEZONE
BEGIN:VEVENT
DTSTART;TZID=Europe/Rome:20240704T180000
DTEND;TZID=Europe/Rome:20240707T130000
DTSTAMP:20260420T083023
CREATED:20240328T225736Z
LAST-MODIFIED:20240328T225736Z
UID:726-1720116000-1720357200@www.mussoreglia.it
SUMMARY:Esperienza per coppie
DESCRIPTION:Chi ama osa \nEster: le sorti rovesciate     Dal 4 al 7 luglio 2024\, prevista l’animazione  per i figli \nEsperienza di crescita per coppie e famiglie a Sestri Levante con l’Associazione Sposi in Cristo  https://sposiincristo.altervista.org/joomla/index.php/it/
URL:https://www.mussoreglia.it/evento/esperienza-per-coppie/
LOCATION:sestri levante
ATTACH;FMTTYPE=image/jpeg:https://www.mussoreglia.it/wp-content/uploads/2024/03/WhatsApp-Image-2024-03-23-at-18.40.38.jpeg
END:VEVENT
BEGIN:VEVENT
DTSTART;TZID=Europe/Rome:20240512T100000
DTEND;TZID=Europe/Rome:20240512T120000
DTSTAMP:20260420T083023
CREATED:20240512T081248Z
LAST-MODIFIED:20240328T151218Z
UID:711-1715508000-1715515200@www.mussoreglia.it
SUMMARY:L'arte del ricalcolo in coppia e in famiglia
DESCRIPTION:Domenica 12 maggio saremo a Ragusa con una relazione dal tema L’arte del ricalcolo in coppia e in famiglia. In questo ricco percorso per le famiglie siamo lieti di poter
URL:https://www.mussoreglia.it/evento/711/
ATTACH;FMTTYPE=image/jpeg:https://www.mussoreglia.it/wp-content/uploads/2024/03/WhatsApp-Image-2024-02-29-at-18.04.28.jpeg
END:VEVENT
BEGIN:VEVENT
DTSTART;TZID=Europe/Rome:20240416T203000
DTEND;TZID=Europe/Rome:20240416T223000
DTSTAMP:20260420T083023
CREATED:20240328T152136Z
LAST-MODIFIED:20240328T152136Z
UID:714-1713299400-1713306600@www.mussoreglia.it
SUMMARY:La fertilità che non ti aspetti
DESCRIPTION:La fertilità che non ti aspetti \n \nUna serata di formazione  on line per gli operatori dei Consultori organizzata da https://www.metodobillings.liguria.it/
URL:https://www.mussoreglia.it/evento/la-fertilita-che-non-ti-aspetti/
LOCATION:on line
ATTACH;FMTTYPE=image/jpeg:https://www.mussoreglia.it/wp-content/uploads/2024/03/WhatsApp-Image-2024-03-28-at-16.17.06.jpeg
END:VEVENT
BEGIN:VEVENT
DTSTART;TZID=Europe/Rome:20240412T203000
DTEND;TZID=Europe/Rome:20240412T223000
DTSTAMP:20260420T083023
CREATED:20240328T150412Z
LAST-MODIFIED:20240328T150528Z
UID:706-1712953800-1712961000@www.mussoreglia.it
SUMMARY:L'arte di viversi accanto
DESCRIPTION:  \nUna serata di custodia della relazione di coppia\, organizzata dalla comunità di Incontro Matrimoniale di Asti Alessandria \nVi aspettiamo
URL:https://www.mussoreglia.it/evento/incontro-matrimoniale-asti-alessandria/
LOCATION:Castello di Annone Asti
ATTACH;FMTTYPE=image/jpeg:https://www.mussoreglia.it/wp-content/uploads/2024/03/WhatsApp-Image-2024-03-04-at-15.45.29.jpeg
END:VEVENT
BEGIN:VEVENT
DTSTART;TZID=Europe/Rome:20240405T080000
DTEND;TZID=Europe/Rome:20240407T170000
DTSTAMP:20260420T083023
CREATED:20240328T145829Z
LAST-MODIFIED:20240328T145829Z
UID:703-1712304000-1712509200@www.mussoreglia.it
SUMMARY:17° Incontro Nazionale di Intercomunione delle Famiglie
DESCRIPTION:Diciassettesimo Incontro Nazionale dell’ Intercomunione delle famiglie. A Parma dal 5 al 7 aprile 2024 \nCrescita\, condivisione\, amicizia e preghiera\, uno spazio per dare respiro alla relazione di coppia.
URL:https://www.mussoreglia.it/evento/17-incontro-nazionale-di-intercomunione-delle-famiglie/
ATTACH;FMTTYPE=image/jpeg:https://www.mussoreglia.it/wp-content/uploads/2024/03/WhatsApp-Image-2024-03-03-at-13.46.32.jpeg
END:VEVENT
BEGIN:VEVENT
DTSTART;TZID=Europe/Rome:20230805T150000
DTEND;TZID=Europe/Rome:20230805T180000
DTSTAMP:20260420T083023
CREATED:20230721T172752Z
LAST-MODIFIED:20230721T172752Z
UID:692-1691247600-1691258400@www.mussoreglia.it
SUMMARY:Città dei Ragazzi Cuneo  Eucarestia e Matrimonio Il Sacramento delle Nozze
DESCRIPTION:All’interno del campo famiglie organizzato dalla Città dei Ragazzi di Cuneo saremo ospiti sabato 5 agosto nel pomeriggio per vivere insieme  una esperienza di custodia e crescita dell’amore di coppia grazie alla forza del Sacramento del Matrimoniodeir
URL:https://www.mussoreglia.it/evento/citta-dei-ragazzi-cuneo-eucarestia-e-matrimonio-il-sacramento-delle-nozze/
LOCATION:Centro Missionario Contemplativo Charles de Foucauld\, Corso Francia\, Cuneo\, Italia
END:VEVENT
BEGIN:VEVENT
DTSTART;VALUE=DATE:20221210
DTEND;VALUE=DATE:20221211
DTSTAMP:20260420T083023
CREATED:20221205T011718Z
LAST-MODIFIED:20221205T011757Z
UID:625-1670630400-1670716799@www.mussoreglia.it
SUMMARY:È tornato disponibile il Manuale Definitivo per l'Intimità di Coppia
DESCRIPTION:È Arrivato in un anno abbiamo distribuito 1000 copie a 1000 coppie! E ora è arrivata la prima ristampa
URL:https://www.mussoreglia.it/evento/ristampa-de-il-manuale-definitivo-per-lintimita-di-coppia/
ATTACH;FMTTYPE=image/jpeg:https://www.mussoreglia.it/wp-content/uploads/2022/12/PXL_20221202_093805041-scaled.jpg
END:VEVENT
END:VCALENDAR